BEGIN:VCALENDAR
VERSION:2.0
PRODID:-//Bürgerlich-Freiheitlicher Aufbruch e.V. - ECPv6.15.20//NONSGML v1.0//EN
CALSCALE:GREGORIAN
METHOD:PUBLISH
X-WR-CALNAME:Bürgerlich-Freiheitlicher Aufbruch e.V.
X-ORIGINAL-URL:https://xn--brgerlich-freiheitlicher-aufbruch-rpd.de
X-WR-CALDESC:Veranstaltungen für Bürgerlich-Freiheitlicher Aufbruch e.V.
REFRESH-INTERVAL;VALUE=DURATION:PT1H
X-Robots-Tag:noindex
X-PUBLISHED-TTL:PT1H
BEGIN:VTIMEZONE
TZID:UTC
BEGIN:STANDARD
TZOFFSETFROM:+0000
TZOFFSETTO:+0000
TZNAME:UTC
DTSTART:20230101T000000
END:STANDARD
END:VTIMEZONE
BEGIN:VEVENT
DTSTART;TZID=UTC:20240605T193000
DTEND;TZID=UTC:20240605T210000
DTSTAMP:20260425T032544
CREATED:20240517T190409Z
LAST-MODIFIED:20240528T073758Z
UID:729-1717615800-1717621200@xn--brgerlich-freiheitlicher-aufbruch-rpd.de
SUMMARY:Online-Stammtisch des BFA
DESCRIPTION:Unser Stammtisch findet regelmäßig online statt. Er richtet sich an Mitglieder und Interessenten. Oft verbinden wir den Stammtisch mit einem Vortrag und einer anschließenden Diskussion zu fachpolitischen und tagesaktuellen Themen. Den jeweiligen Stammtisch und das Thema geben wir vorzeitig auf unsere Website und den Social Media Kanälen bekannt. Bei Interesse an einer Teilnahme\, schreiben Sie bitte eine Mail an info@bfa-verein.de.
URL:https://xn--brgerlich-freiheitlicher-aufbruch-rpd.de/event/online-stammtische-des-bfa-2/
CATEGORIES:Online-Stammtisch
ATTACH;FMTTYPE=image/jpeg:https://xn--brgerlich-freiheitlicher-aufbruch-rpd.de/wp-content/uploads/2024/05/20240528-OnlStammtisch-20240605.jpg
END:VEVENT
END:VCALENDAR