BEGIN:VCALENDAR
VERSION:2.0
PRODID:-//Bürgerlich-Freiheitlicher Aufbruch e.V. - ECPv6.15.20//NONSGML v1.0//EN
CALSCALE:GREGORIAN
METHOD:PUBLISH
X-WR-CALNAME:Bürgerlich-Freiheitlicher Aufbruch e.V.
X-ORIGINAL-URL:https://xn--brgerlich-freiheitlicher-aufbruch-rpd.de
X-WR-CALDESC:Veranstaltungen für Bürgerlich-Freiheitlicher Aufbruch e.V.
REFRESH-INTERVAL;VALUE=DURATION:PT1H
X-Robots-Tag:noindex
X-PUBLISHED-TTL:PT1H
BEGIN:VTIMEZONE
TZID:UTC
BEGIN:STANDARD
TZOFFSETFROM:+0000
TZOFFSETTO:+0000
TZNAME:UTC
DTSTART:20230101T000000
END:STANDARD
END:VTIMEZONE
BEGIN:VEVENT
DTSTART;TZID=UTC:20240606T180000
DTEND;TZID=UTC:20240606T210000
DTSTAMP:20260425T032527
CREATED:20240527T092942Z
LAST-MODIFIED:20240527T092942Z
UID:863-1717696800-1717707600@xn--brgerlich-freiheitlicher-aufbruch-rpd.de
SUMMARY:Bargeldabschaffung - nur eine Einbildung oder baldige Realität
DESCRIPTION:Dieser Vortrag zeigt auf\, wie gefährlich weit die Bargeldabschaffung schon vorangeschritten ist und in welch akuter Gefahr sich unser Bargeld tatsächlich befindet. \nDer Vortrag hat das Ziel\, uns Bürger über diese riskanten Entwicklungen aufzuklären und Lösungen aufzuzeigen. Denn jeder von uns kann etwas Wertvolles für den Erhalt unseres Bargeldes und somit zum Erhalt unserer Freiheit beitragen. \nIst euer Interesse geweckt? Dann sendet uns eine Mail an info@ba-feucht.de.
URL:https://xn--brgerlich-freiheitlicher-aufbruch-rpd.de/event/bargeldabschaffung-nur-eine-einbildung-oder-baldige-realitaet/
LOCATION:Park-Restaurant TSV Feucht\, Segersweg 9\, Feucht\, 90537\, Germany
END:VEVENT
END:VCALENDAR