BEGIN:VCALENDAR
VERSION:2.0
PRODID:-//Bürgerlich-Freiheitlicher Aufbruch e.V. - ECPv6.15.20//NONSGML v1.0//EN
CALSCALE:GREGORIAN
METHOD:PUBLISH
X-ORIGINAL-URL:https://xn--brgerlich-freiheitlicher-aufbruch-rpd.de
X-WR-CALDESC:Veranstaltungen für Bürgerlich-Freiheitlicher Aufbruch e.V.
REFRESH-INTERVAL;VALUE=DURATION:PT1H
X-Robots-Tag:noindex
X-PUBLISHED-TTL:PT1H
BEGIN:VTIMEZONE
TZID:UTC
BEGIN:STANDARD
TZOFFSETFROM:+0000
TZOFFSETTO:+0000
TZNAME:UTC
DTSTART:20240101T000000
END:STANDARD
END:VTIMEZONE
BEGIN:VEVENT
DTSTART;TZID=UTC:20250205T193000
DTEND;TZID=UTC:20250205T203000
DTSTAMP:20260424T145917
CREATED:20250122T193157Z
LAST-MODIFIED:20250518T185801Z
UID:1645-1738783800-1738787400@xn--brgerlich-freiheitlicher-aufbruch-rpd.de
SUMMARY:Gespräch mit Kay-Achim Schönbach\, Vize-Admiral a.D.\, Spitzenkandidat von Bündnis Deutschland zur Bundestagswahl
DESCRIPTION:Sie sind zu einem Zoom Webinar eingeladen!\nWann: 5.Feb. 2025 19:30 Amsterdam\, Berlin\, Rom\, Stockholm\, Wien\nThema: 5. Februar\, 19:30 – 20:30 Uhr – ein Gespräch mit Kay-Achim Schönbach\, Vize-Admiral a.D.\, Spitzenkandidat von Bündnis Deutschland zur Bundestagswahl \nSie können auf PC\, Mac\, iPad oder Android beitreten:\nhttps://zoom.us/j/92456705546
URL:https://xn--brgerlich-freiheitlicher-aufbruch-rpd.de/event/gespraech-mit-kai-achim-schoenbach-admiral-a-d-spitzenkandidat-von-buendnis-deutschland-zur-bundestagswahl/
LOCATION:Online\, Germany
CATEGORIES:Webinar
ATTACH;FMTTYPE=image/jpeg:https://xn--brgerlich-freiheitlicher-aufbruch-rpd.de/wp-content/uploads/2025/01/WhatsApp-Bild-2025-01-23-resize-3.jpg
END:VEVENT
END:VCALENDAR