BEGIN:VCALENDAR
VERSION:2.0
PRODID:-//Bürgerlich-Freiheitlicher Aufbruch e.V. - ECPv6.15.20//NONSGML v1.0//EN
CALSCALE:GREGORIAN
METHOD:PUBLISH
X-WR-CALNAME:Bürgerlich-Freiheitlicher Aufbruch e.V.
X-ORIGINAL-URL:https://xn--brgerlich-freiheitlicher-aufbruch-rpd.de
X-WR-CALDESC:Veranstaltungen für Bürgerlich-Freiheitlicher Aufbruch e.V.
REFRESH-INTERVAL;VALUE=DURATION:PT1H
X-Robots-Tag:noindex
X-PUBLISHED-TTL:PT1H
BEGIN:VTIMEZONE
TZID:UTC
BEGIN:STANDARD
TZOFFSETFROM:+0000
TZOFFSETTO:+0000
TZNAME:UTC
DTSTART:20230101T000000
END:STANDARD
END:VTIMEZONE
BEGIN:VEVENT
DTSTART;TZID=UTC:20240703T193000
DTEND;TZID=UTC:20240703T210000
DTSTAMP:20260425T012938
CREATED:20240517T190509Z
LAST-MODIFIED:20240623T121914Z
UID:731-1720035000-1720040400@xn--brgerlich-freiheitlicher-aufbruch-rpd.de
SUMMARY:Online-Stammtisch des BFA - Thema Pachtversprechen für Gemeinden bei Windkraftanlagen
DESCRIPTION:Thema im Juli:\nUnterschätzte Risiken für Gemeinden und Verpächter bei Windkraftanlagen – Attraktive Pachtversprechen und Gewinne für Gemeinden locken. Doch was steckt wirklich dahinter? \nReferent: Holger Schramm\, Unternehmer \n \nUnser Stammtisch findet regelmäßig online statt. Er richtet sich an Mitglieder und Interessenten. Oft verbinden wir den Stammtisch mit einem Vortrag und einer anschließenden Diskussion zu fachpolitischen und tagesaktuellen Themen. Den jeweiligen Stammtisch und das Thema geben wir vorzeitig auf unsere Website und den Social Media Kanälen bekannt. Bei Interesse an einer Teilnahme\, schreiben Sie bitte eine Mail an info@bfa-verein.de.
URL:https://xn--brgerlich-freiheitlicher-aufbruch-rpd.de/event/online-stammtische-des-bfa-3/
CATEGORIES:Online-Stammtisch
END:VEVENT
END:VCALENDAR