BEGIN:VCALENDAR
VERSION:2.0
PRODID:-//Bürgerlich-Freiheitlicher Aufbruch e.V. - ECPv6.15.20//NONSGML v1.0//EN
CALSCALE:GREGORIAN
METHOD:PUBLISH
X-WR-CALNAME:Bürgerlich-Freiheitlicher Aufbruch e.V.
X-ORIGINAL-URL:https://xn--brgerlich-freiheitlicher-aufbruch-rpd.de
X-WR-CALDESC:Veranstaltungen für Bürgerlich-Freiheitlicher Aufbruch e.V.
REFRESH-INTERVAL;VALUE=DURATION:PT1H
X-Robots-Tag:noindex
X-PUBLISHED-TTL:PT1H
BEGIN:VTIMEZONE
TZID:UTC
BEGIN:STANDARD
TZOFFSETFROM:+0000
TZOFFSETTO:+0000
TZNAME:UTC
DTSTART:20230101T000000
END:STANDARD
END:VTIMEZONE
BEGIN:VEVENT
DTSTART;TZID=UTC:20241106T193000
DTEND;TZID=UTC:20241106T203000
DTSTAMP:20260424T100441
CREATED:20241019T070740Z
LAST-MODIFIED:20241019T071208Z
UID:1307-1730921400-1730925000@xn--brgerlich-freiheitlicher-aufbruch-rpd.de
SUMMARY:November Online-Stammtisch des BFA - Ein Gespräch mit Manfred Haferburg - 6. November 2024\, 19:30 via Zoom
DESCRIPTION:Unser Stammtisch findet regelmäßig online statt. Er richtet sich an Mitglieder und Interessenten. Oft verbinden wir den Stammtisch mit einem Vortrag und einer anschließenden Diskussion zu fachpolitischen und tagesaktuellen Themen. Den jeweiligen Stammtisch und das Thema geben wir vorzeitig auf unsere Website und den Social Media Kanälen bekannt. Bei Interesse an einer Teilnahme\, schreiben Sie bitte eine Mail an info@bfa-verein.de. Zu unserem Gast im November: \n\n\n\nManfred Haferburg wurde 1948 in Querfurt geboren. Er studierte an der TU Dresden Kernenergetik und machte eine Blitzkarriere im damalig größten AKW der DDR in Greifswald. Wegen des frechen Absingens von Biermannliedern sowie einiger unbedachter Äußerungen beim Karneval wurde er zum feindlich-negativen Element der DDR ernannt und verbrachte folgerichtig einige Zeit unter der Obhut der Stasi in Hohenschönhausen. Nach der Wende kümmerte er sich für eine internationale Organisation um die Sicherheitskultur von Atomkraftwerken weltweit und hat so viele AKWs von innen gesehen wie kaum ein anderer. Im KUUUK-Verlag veröffentlichte er seinen auf Tatsachen beruhenden Roman „Wohn-Haft“ mit einem Vorwort von Wolf Biermann.
URL:https://xn--brgerlich-freiheitlicher-aufbruch-rpd.de/event/november-online-stammtisch-des-bfa-ein-gespraech-mit-manfred-haferburg-6-november-2024-1930-via-zoom/
CATEGORIES:Online-Stammtisch
ATTACH;FMTTYPE=image/jpeg:https://xn--brgerlich-freiheitlicher-aufbruch-rpd.de/wp-content/uploads/2024/10/image0.jpeg
END:VEVENT
END:VCALENDAR