BEGIN:VCALENDAR
VERSION:2.0
PRODID:-//Bürgerlich-Freiheitlicher Aufbruch e.V. - ECPv6.15.20//NONSGML v1.0//EN
CALSCALE:GREGORIAN
METHOD:PUBLISH
X-WR-CALNAME:Bürgerlich-Freiheitlicher Aufbruch e.V.
X-ORIGINAL-URL:https://xn--brgerlich-freiheitlicher-aufbruch-rpd.de
X-WR-CALDESC:Veranstaltungen für Bürgerlich-Freiheitlicher Aufbruch e.V.
REFRESH-INTERVAL;VALUE=DURATION:PT1H
X-Robots-Tag:noindex
X-PUBLISHED-TTL:PT1H
BEGIN:VTIMEZONE
TZID:UTC
BEGIN:STANDARD
TZOFFSETFROM:+0000
TZOFFSETTO:+0000
TZNAME:UTC
DTSTART:20240101T000000
END:STANDARD
END:VTIMEZONE
BEGIN:VEVENT
DTSTART;TZID=UTC:20250604T193000
DTEND;TZID=UTC:20250604T210000
DTSTAMP:20260419T155927
CREATED:20250518T190459Z
LAST-MODIFIED:20250521T111304Z
UID:1889-1749065400-1749070800@xn--brgerlich-freiheitlicher-aufbruch-rpd.de
SUMMARY:Juni Online-Stammtisch des BFA – Windkraftanlagen: Wie beeinflusst Infraschall unsere Gesundheit – 4. Juni 2025\, 19:30 via Zoom
DESCRIPTION:Unser Stammtisch findet regelmäßig online statt. Er richtet sich an Mitglieder und Interessenten. Oft verbinden wir den Stammtisch mit einem Vortrag und einer anschließenden Diskussion zu fachpolitischen und tagesaktuellen Themen. Den jeweiligen Stammtisch und das Thema geben wir vorzeitig auf unsere Website und den Social Media Kanälen bekannt. Bei Interesse an einer Teilnahme\, schreiben Sie bitte eine Mail an info@bfa-verein.de.
URL:https://xn--brgerlich-freiheitlicher-aufbruch-rpd.de/event/juni-online-stammtisch-des-bfa-windkraftanlagen-wie-beeinflusst-infraschall-unsere-gesundheit-4-juni-2025-1930-via-zoom/
CATEGORIES:Online-Stammtisch
END:VEVENT
END:VCALENDAR