BEGIN:VCALENDAR
VERSION:2.0
PRODID:-//Bürgerlich-Freiheitlicher Aufbruch e.V. - ECPv6.15.20//NONSGML v1.0//EN
CALSCALE:GREGORIAN
METHOD:PUBLISH
X-ORIGINAL-URL:https://xn--brgerlich-freiheitlicher-aufbruch-rpd.de
X-WR-CALDESC:Veranstaltungen für Bürgerlich-Freiheitlicher Aufbruch e.V.
REFRESH-INTERVAL;VALUE=DURATION:PT1H
X-Robots-Tag:noindex
X-PUBLISHED-TTL:PT1H
BEGIN:VTIMEZONE
TZID:UTC
BEGIN:STANDARD
TZOFFSETFROM:+0000
TZOFFSETTO:+0000
TZNAME:UTC
DTSTART:20250101T000000
END:STANDARD
END:VTIMEZONE
BEGIN:VEVENT
DTSTART;TZID=UTC:20260430T190000
DTEND;TZID=UTC:20260430T210000
DTSTAMP:20260420T164500
CREATED:20260420T084014Z
LAST-MODIFIED:20260420T084014Z
UID:2269-1777575600-1777582800@xn--brgerlich-freiheitlicher-aufbruch-rpd.de
SUMMARY:Vortrag Staatsgeheimnis NGO
DESCRIPTION:Dieser Vortrag findet am Donnerstag\, den 30.04.2026 um 19:00 Uhr in den Räumen von dieBasis\, Schleißheimer Str. 189 in München statt.
URL:https://xn--brgerlich-freiheitlicher-aufbruch-rpd.de/event/vortrag-staatsgeheimnis-ngo/
CATEGORIES:Fremdveranstaltung
END:VEVENT
END:VCALENDAR