BEGIN:VCALENDAR
VERSION:2.0
PRODID:-//Bürgerlich-Freiheitlicher Aufbruch e.V. - ECPv6.15.20//NONSGML v1.0//EN
CALSCALE:GREGORIAN
METHOD:PUBLISH
X-WR-CALNAME:Bürgerlich-Freiheitlicher Aufbruch e.V.
X-ORIGINAL-URL:https://xn--brgerlich-freiheitlicher-aufbruch-rpd.de
X-WR-CALDESC:Veranstaltungen für Bürgerlich-Freiheitlicher Aufbruch e.V.
REFRESH-INTERVAL;VALUE=DURATION:PT1H
X-Robots-Tag:noindex
X-PUBLISHED-TTL:PT1H
BEGIN:VTIMEZONE
TZID:UTC
BEGIN:STANDARD
TZOFFSETFROM:+0000
TZOFFSETTO:+0000
TZNAME:UTC
DTSTART:20240101T000000
END:STANDARD
END:VTIMEZONE
BEGIN:VEVENT
DTSTART;TZID=UTC:20250305T193000
DTEND;TZID=UTC:20250305T210000
DTSTAMP:20260421T093921
CREATED:20250302T201256Z
LAST-MODIFIED:20250518T185756Z
UID:1763-1741203000-1741208400@xn--brgerlich-freiheitlicher-aufbruch-rpd.de
SUMMARY:Online-Stammtisch - Gespräch mit Simone Baum zum Thema Rufschädigung und Diskreditierung
DESCRIPTION:Wir veranstalten wieder einen Online-Stammtisch. \nFrau Simone Baum\, Teilnehmerin der sogenannten „Wannsee-Konferenz 2.0“\, berichtet über Massenhysterie und Massenmanipulation durch Correctiv. Bei Interesse schreiben Sie eine Mail an info@bfa-verein.de.
URL:https://xn--brgerlich-freiheitlicher-aufbruch-rpd.de/event/gespraech-mit-simone-baum-zum-thema-rufschaedigung-und-diskreditierung/
CATEGORIES:Online-Stammtisch
END:VEVENT
END:VCALENDAR