BEGIN:VCALENDAR
VERSION:2.0
PRODID:-//Bürgerlich-Freiheitlicher Aufbruch e.V. - ECPv6.15.20//NONSGML v1.0//EN
CALSCALE:GREGORIAN
METHOD:PUBLISH
X-ORIGINAL-URL:https://xn--brgerlich-freiheitlicher-aufbruch-rpd.de
X-WR-CALDESC:Veranstaltungen für Bürgerlich-Freiheitlicher Aufbruch e.V.
REFRESH-INTERVAL;VALUE=DURATION:PT1H
X-Robots-Tag:noindex
X-PUBLISHED-TTL:PT1H
BEGIN:VTIMEZONE
TZID:UTC
BEGIN:STANDARD
TZOFFSETFROM:+0000
TZOFFSETTO:+0000
TZNAME:UTC
DTSTART:20230101T000000
END:STANDARD
END:VTIMEZONE
BEGIN:VEVENT
DTSTART;TZID=UTC:20241120T193000
DTEND;TZID=UTC:20241120T210000
DTSTAMP:20260424T031708
CREATED:20241114T103818Z
LAST-MODIFIED:20250518T185807Z
UID:1480-1732131000-1732136400@xn--brgerlich-freiheitlicher-aufbruch-rpd.de
SUMMARY:Außerordentlicher Stammtisch - Quo vadis konservatives & freiheitliches Deutschland?
DESCRIPTION:Quo vadis konservatives & freiheitliches Deutschland? \nEs drängt sich die Frage auf\, welchen Parteien und Personen freiheitliche und konservative Kräfte bei den Neuwahlen im Februar 2025 ihr Vertrauen schenken können. Die FDP ist geschwächt. Es ist nicht sicher\, dass sie sich von der Regierungsbeteiligung an der illiberalen Ampel je wieder erholen wird. Die Union ist weiter opportunistisch. Sie zieht Sachanträge zum Grenzschutz im Bundestag zurück\, weil nun nach dem Ampel-Aus durch die Zustimmung der „Falschen“ dieser Antrag sogar eine parlamentarische Mehrheit finden könnte. Die AfD ist zunehmend radikal. Die Kleinparteien bleiben zersplittert. Über die Gemengelage und aktuelle Entwicklungen wollen wir mit Ihnen bei diesem außerordentlichen Stammtisch ins Gespräch kommen. \n\n\n\nDer Stammtisch findet am 20.11. 2024 um 19:30 Uhr statt. Bei Interesse an einer Teilnahme\, schreiben Sie bitte eine Mail an info@bfa-verein.de.
URL:https://xn--brgerlich-freiheitlicher-aufbruch-rpd.de/event/ausserordentlicher-stammtisch-quo-vadis-konservatives-freiheitliches-deutschland/
CATEGORIES:Online-Stammtisch
ATTACH;FMTTYPE=image/jpeg:https://xn--brgerlich-freiheitlicher-aufbruch-rpd.de/wp-content/uploads/2024/11/shutterstock_2528860285-scaled.jpg
END:VEVENT
END:VCALENDAR